Workbook

Sheet Og-mgr
A1: POLITECHNIKA POZNAŃSKA | J1: Kierunek | O1: LOTNICTWO I KOSMONAUTYKA
A2: WYDZIAŁ INŻYNIERII TRANSPORTU | J2: Ścieżka dypl. | O2: 1. Inżynieria lotnicza (IL) - KTC
O3: 2. Inżynieria kosmiczna (IK) - KTC
O4: 3. Lotnictwo cywilne (LC) - ISS
B14: Plan studiów stacjonarnych II stopnia magisterskich
C16: Realizacja | D16: ECTS | E16: L. egzaminów | F16: L. zaliczeń | G16: Ogólne liczby godzin | M16: semestr | T16: semestr | AA16: semestr
G17: Razem | H17: w tym | P17: I | W17: II | AD17: III
A18: L.p. | B18: Nazwa przedmiotu | H18: wykł. | I18: ćw. | J18: lab. | K18: proj.
H19: W | I19: C | J19: L | K19: P | L19: ECTS | M19: E | N19: Z | O19: W | P19: C | Q19: L | R19: P | S19: ECTS | T19: E | U19: Z | V19: W | W19: C | X19: L | Y19: P | Z19: ECTS | AA19: E | AB19: Z | AC19: W | AD19: C | AE19: L | AF19: P
A20: Og. Przedmioty kształcenia ogólnego
A21: Og.1 | B21: Język obcy | C21: SJO | D21: =L21+S21+Z21 -> 4 | E21: =M21+T21+AA21 -> 0 | F21: =N21+U21+AB21 -> 2 | G21: =SUM(H21:K21) -> 60 | H21: =15*SUM(O21,V21,AC21) -> 0 | I21: =15*SUM(P21,W21,AD21) -> 60 | J21: =15*SUM(Q21,X21,AE21) -> 0 | K21: =15*SUM(R21,Y21,AF21) -> 0 | L21: 2 | N21: 1 | P21: 2 | S21: 2 | U21: 1 | W21: 2
A22: Og.2 | B22: Zarządzanie projektami | C22: WIZ/UAM | D22: =L22+S22+Z22 -> 2 | E22: =M22+T22+AA22 -> 0 | F22: =N22+U22+AB22 -> 2 | G22: =SUM(H22:K22) -> 45 | H22: =15*SUM(O22,V22,AC22) -> 15 | I22: =15*SUM(P22,W22,AD22) -> 0 | J22: =15*SUM(Q22,X22,AE22) -> 0 | K22: =15*SUM(R22,Y22,AF22) -> 30 | Z22: 2 | AB22: 2 | AC22: 1 | AF22: 2
A23: Og.3 | B23: Autoprezentacja | C23: WIZ | D23: =L23+S23+Z23 -> 2 | E23: =M23+T23+AA23 -> 0 | F23: =N23+U23+AB23 -> 1 | G23: =SUM(H23:K23) -> 30 | H23: =15*SUM(O23,V23,AC23) -> 0 | I23: =15*SUM(P23,W23,AD23) -> 30 | J23: =15*SUM(Q23,X23,AE23) -> 0 | K23: =15*SUM(R23,Y23,AF23) -> 0 | Z23: 2 | AB23: 1 | AD23: 2
A24: Og. 4 | B24: Trening umiejętności manegerskich | C24: WIZ | D24: =L24+S24+Z24 -> 1 | E24: =M24+T24+AA24 -> 0 | F24: =N24+U24+AB24 -> 1 | G24: =SUM(H24:K24) -> 15 | H24: =15*SUM(O24,V24,AC24) -> 0 | I24: =15*SUM(P24,W24,AD24) -> 15 | J24: =15*SUM(Q24,X24,AE24) -> 0 | K24: =15*SUM(R24,Y24,AF24) -> 0 | S24: 1 | U24: 1 | W24: 1
D25: =L25+S25+Z25 -> 0 | E25: =M25+T25+AA25 -> 0 | F25: =N25+U25+AB25 -> 0 | G25: =SUM(H25:K25) -> 0 | H25: =15*SUM(O25,V25,AC25) -> 0 | I25: =15*SUM(P25,W25,AD25) -> 0 | J25: =15*SUM(Q25,X25,AE25) -> 0 | K25: =15*SUM(R25,Y25,AF25) -> 0
D26: =L26+S26+Z26 -> 0 | E26: =M26+T26+AA26 -> 0 | F26: =N26+U26+AB26 -> 0 | G26: =SUM(H26:K26) -> 0 | H26: =15*SUM(O26,V26,AC26) -> 0 | I26: =15*SUM(P26,W26,AD26) -> 0 | J26: =15*SUM(Q26,X26,AE26) -> 0 | K26: =15*SUM(R26,Y26,AF26) -> 0
A27: Og.5 | B27: Praktyka zawodowa 1) | D27: =L27+S27+Z27 -> 4 | E27: =M27+T27+AA27 -> 0 | F27: =N27+U27+AB27 -> 1 | G27: =SUM(H27:K27) -> 0 | H27: =15*SUM(O27,V27,AC27) -> 0 | I27: =15*SUM(P27,W27,AD27) -> 0 | J27: =15*SUM(Q27,X27,AE27) -> 0 | K27: =15*SUM(R27,Y27,AF27) -> 0 | L27: 4 | N27: 1
D28: =L28+S28+Z28+AG28 -> 0 | E28: =M28+T28+AA28+AH28 -> 0 | F28: =N28+U28+AB28+AI28 -> 0 | G28: =SUM(H28:K28) -> 0 | H28: =15*SUM(O28,V28,AC28) -> 0 | I28: =15*SUM(P28,W28,AD28) -> 0 | J28: =15*SUM(Q28,X28,AE28) -> 0 | K28: =15*SUM(R28,Y28,AF28) -> 0
B29: Razem w grupie Og | D29: =SUM(D21:D28) -> 13 | E29: =SUM(E21:E28) -> 0 | F29: =SUM(F21:F28) -> 7 | G29: =SUM(G21:G28) -> 150 | H29: =SUM(H21:H28) -> 15 | I29: =SUM(I21:I28) -> 105 | J29: =SUM(J21:J28) -> 0 | K29: =SUM(K21:K28) -> 30 | ... AF29: =SUM(AF21:AF28) -> 2
B30: Liczba godzin tygodniowo | O30: =SUM(O29:R29) -> 2 | V30: =SUM(V29:Y29) -> 3 | AC30: =SUM(AC29:AF29) -> 5
B31: Liczba godz. w semestrze | O31: =15*SUM(O30:R30) -> 30 | V31: =15*SUM(V30:Y30) -> 45 | AC31: =15*SUM(AC30:AF30) -> 75
B33: 1) zaliczna po 1 sem.
B34: *) Przedmiot którego zaliczenie warunkuje możliwość kontynuowania studiów

Sheet  A-mgr
A1: POLITECHNIKA POZNAŃSKA | J1: Kierunek | O1: LOTNICTWO I KOSMONAUTYKA
A2: ='Og-mgr'!A2 -> WYDZIAŁ INŻYNIERII TRANSPORTU
B11: Plan studiów stacjonarnych II stopnia magisterskich
C14: Realizacja | D14: ECTS | E14: L. egzaminów | F14: L. zaliczeń | G14: Ogólne liczby godzin | M14: semestr | T14: semestr | AA14: semestr
G15: Razem | H15: w tym | P15: I | W15: II | AD15: III
A16: L.p. | B16: Nazwa przedmiotu | H16: wykł. | I16: ćw. | J16: lab. | K16: proj.
H17: W | I17: C | J17: L | K17: P | L17: ECTS | M17: E | N17: Z | O17: W | P17: C | Q17: L | R17: P | S17: ECTS | T17: E | U17: Z | V17: W | W17: C | X17: L | Y17: P | Z17: ECTS | AA17: E | AB17: Z | AC17: W | AD17: C | AE17: L | AF17: P
A18: A. Przedmioty podstawowe
A19: 1 | B19: Matematyka stosowana i metody matematyczne | C19: IM | D19: =L19+S19+Z19+'Og-mgr'!AG13 -> 2 | E19: =M19+T19+AA19+AH19 -> 1 | F19: =N19+U19+AB19+AI19 -> 1 | G19: =SUM(H19:K19) -> 30 | H19: =15*SUM(O19,V19,AC19) -> 15 | I19: =15*SUM(P19,W19,AD19) -> 15 | J19: =15*SUM(Q19,X19,AE19) -> 0 | K19: =15*SUM(R19,Y19,AF19) -> 0 | L19: 2 | M19: 1 | N19: 1 | O19: 1 | P19: 1
A20: 2 | B20: Języki programowania | C20: KTC | D20: =L20+S20+Z20+'Og-mgr'!AG18 -> 2 | E20: =M20+T20+AA20+AH20 -> 0 | F20: =N20+U20+AB20+AI20 -> 2 | G20: =SUM(H20:K20) -> 30 | H20: =15*SUM(O20,V20,AC20) -> 15 | I20: =15*SUM(P20,W20,AD20) -> 0 | J20: =15*SUM(Q20,X20,AE20) -> 15 | K20: =15*SUM(R20,Y20,AF20) -> 0 | S20: 2 | U20: 2 | V20: 1 | X20: 1
A21: 3 | B21: Statystyka matematyczna | C21: IM | D21: =L21+S21+Z21+'Og-mgr'!AG19 -> 2 | E21: =M21+T21+AA21+AH21 -> 0 | F21: =N21+U21+AB21+AI21 -> 0 | G21: =SUM(H21:K21) -> 45 | H21: =15*SUM(O21,V21,AC21) -> 15 | J21: 30 | K21: =15*SUM(R21,Y21,AF21) -> 0 | S21: 2 | V21: 1 | X21: 2
A22: 4 | B22: Automatyka | C22: WIT | D22: =L22+S22+Z22+'Og-mgr'!AG20 -> 2 | E22: =M22+T22+AA22+AH22 -> 0 | F22: =N22+U22+AB22+AI22 -> 0 | G22: =SUM(H22:K22) -> 45 | H22: =15*SUM(O22,V22,AC22) -> 15 | I22: =15*SUM(P22,W22,AD22) -> 15 | J22: =15*SUM(Q22,X22,AE22) -> 15 | K22: =15*SUM(R22,Y22,AF22) -> 0 | S22: 2 | V22: 1 | W22: 1 | X22: 1
B23: Razem w grupie A | C23: =SUM(C20:C22) -> 0 | D23: =D19+D20+D21+D22+#REF! -> #REF! | E23: =SUM(E19:E22) -> 1 | F23: =SUM(F19:F22) -> 3 | G23: =SUM(G19:G22) -> 150 | H23: =SUM(H19:H22) -> 60 | I23: =SUM(I19:I22) -> 30 | J23: =SUM(J19:J22) -> 60 | K23: =SUM(K19:K22) -> 0 | L23: =SUM(L19:L22) -> 2 | ... AF23: =SUM(AF19:AF22) -> 0
B24: Liczba godzin tygodniowo | O24: =SUM(O23:R23) -> 2 | V24: =SUM(V23:Y23) -> 8 | AC24: =SUM(AC23:AF23) -> 0
B25: Liczba godz. w semestrze | O25: =15*SUM(O24:R24) -> 30 | V25: =15*SUM(V24:Y24) -> 120 | AC25: =15*SUM(AC24:AF24) -> 0

Sheet B-mgr (2)
A1: POLITECHNIKA POZNAŃSKA | J1: Kierunek | O1: LOTNICTWO I KOSMONAUTYKA
A2: ='Og-mgr'!A2 -> WYDZIAŁ INŻYNIERII TRANSPORTU
B10: Plan studiów stacjonarnych II stopnia magisterskich
C13: Realizacja | D13: ECTS | E13: L. egzaminów | F13: L. zaliczeń | G13: Ogólne liczby godzin | M13: semestr | T13: semestr | AA13: semestr
G14: Razem | H14: w tym | P14: I | W14: II | AD14: III
A15: L.p. | B15: Nazwa przedmiotu | H15: wykł. | I15: ćw. | J15: lab. | K15: proj.
H16: W | I16: C | J16: L | K16: P | L16: ECTS | M16: E | N16: Z | O16: W | P16: C | Q16: L | R16: P | S16: ECTS | T16: E | U16: Z | V16: W | W16: C | X16: L | Y16: P | Z16: ECTS | AA16: E | AB16: Z | AC16: W | AD16: C | AE16: L | AF16: P
A17: B. Przedmioty kierunkowe
A19: 1 | B19: Programowanie systemów pokładowych | C19: KTC | D19: =L19+S19+Z19 -> 2 | E19: =M19+T19+AA19+AH19 -> 1 | F19: =N19+U19+AB19+AI19 -> 0 | G19: =SUM(H19:K19) -> 30 | H19: =15*SUM(O19,V19,AC19) -> 30 | I19: =15*SUM(P19,W19,AD19) -> 0 | J19: =15*SUM(Q19,X19,AE19) -> 0 | K19: =15*SUM(R19,Y19,AF19) -> 0 | L19: 2 | M19: 1 | O19: 2
A20: 2 | B20: Systemy automatyzacji sterowania SP i SK | C20: KTC | D20: =L20+S20+Z20 -> 3 | E20: =M20+T20+AA20+AH20 -> 1 | F20: =N20+U20+AB20+AI20 -> 1 | G20: =SUM(H20:K20) -> 45 | H20: =15*SUM(O20,V20,AC20) -> 30 | I20: =15*SUM(P20,W20,AD20) -> 0 | J20: =15*SUM(Q20,X20,AE20) -> 0 | K20: =15*SUM(R20,Y20,AF20) -> 15 | S20: 3 | T20: 1 | U20: 1 | V20: 2 | Y20: 1
A21: 3 | B21: CAD | C21: ISS | D21: =L21+S21+Z21 -> 2 | E21: =M21+T21+AA21+AH21 -> 1 | F21: =N21+U21+AB21+AI21 -> 1 | G21: =SUM(H21:K21) -> 30 | H21: =15*SUM(O21,V21,AC21) -> 15 | I21: =15*SUM(P21,W21,AD21) -> 0 | J21: =15*SUM(Q21,X21,AE21) -> 0 | K21: =15*SUM(R21,Y21,AF21) -> 15 | L21: 2 | M21: 1 | N21: 1 | O21: 1 | R21: 1
A22: 4 | B22: Podstawy CFD | C22: KTC | D22: =L22+S22+Z22 -> 2 | E22: =M22+T22+AA22+AH22 -> 1 | F22: =N22+U22+AB22+AI22 -> 1 | G22: =SUM(H22:K22) -> 30 | H22: =15*SUM(O22,V22,AC22) -> 15 | I22: =15*SUM(P22,W22,AD22) -> 0 | J22: 15 | S22: 2 | T22: 1 | U22: 1 | V22: 1 | Y22: 1
A23: 5 | B23: Podstawy Spalania | C23: KTC | D23: =L23+S23+Z23 -> 1 | E23: =M23+T23+AA23+AH23 -> 0 | F23: =N23+U23+AB23+AI23 -> 1 | G23: =SUM(H23:K23) -> 15 | H23: =15*SUM(O23,V23,AC23) -> 15 | I23: =15*SUM(P23,W23,AD23) -> 0 | J23: =15*SUM(Q23,X23,AE23) -> 0 | K23: =15*SUM(R23,Y23,AF23) -> 0 | L23: 1 | N23: 1 | O23: 1 | Q23: 0
A24: 6 | B24: Materiały kompozytowe | C24: IR | D24: =L24+S24+Z24 -> 1 | E24: =M24+T24+AA24+AH24 -> 1 | F24: =N24+U24+AB24+AI24 -> 1 | G24: =SUM(H24:K24) -> 30 | H24: =15*SUM(O24,V24,AC24) -> 15 | I24: =15*SUM(P24,W24,AD24) -> 0 | J24: =15*SUM(Q24,X24,AE24) -> 15 | K24: =15*SUM(R24,Y24,AF24) -> 0 | Z24: 1 | AA24: 1 | AB24: 1 | AC24: 1 | AE24: 1
A25: 7 | B25: Badania nieniszczące | C25: IR | D25: =L25+S25+Z25 -> 2 | E25: =M25+T25+AA25+AH25 -> 1 | F25: =N25+U25+AB25+AI25 -> 1 | G25: =SUM(H25:K25) -> 30 | H25: =15*SUM(O25,V25,AC25) -> 15 | I25: =15*SUM(P25,W25,AD25) -> 0 | J25: =15*SUM(Q25,X25,AE25) -> 15 | K25: =15*SUM(R25,Y25,AF25) -> 0 | Z25: 2 | AA25: 1 | AB25: 1 | AC25: 1 | AE25: 1
A26: 8 | B26: Astronomia współczesna | C26: UAM | D26: =L26+S26+Z26 -> 2 | E26: =M26+T26+AA26+AH26 -> 2 | F26: =N26+U26+AB26+AI26 -> 0 | G26: =SUM(H26:K26) -> 30 | H26: =15*SUM(O26,V26,AC26) -> 30 | I26: =15*SUM(P26,W26,AD26) -> 0 | J26: =15*SUM(Q26,X26,AE26) -> 0 | K26: =15*SUM(R26,Y26,AF26) -> 0 | L26: 1 | M26: 1 | O26: 1 | S26: 1 | T26: 1 | V26: 1
A27: 9 | B27: Badania w lotnictwie | C27: ISS | D27: =L27+S27+Z27 -> 2 | E27: =M27+T27+AA27 -> 1 | F27: =N27+U27+AB27 -> 2 | G27: =SUM(H27:K27) -> 45 | H27: =15*SUM(O27,V27,AC27) -> 15 | I27: =15*SUM(P27,W27,AD27) -> 15 | J27: =15*SUM(Q27,X27,AE27) -> 15 | K27: =15*SUM(R27,Y27,AF27) -> 0 | S27: 2 | T27: 1 | U27: 2 | V27: 1 | W27: 1 | X27: 1
A28: 10 | B28: Wpływ lotnictwa na środowisko | C28: ISS | D28: =L28+S28+Z28 -> 3 | E28: =M28+T28+AA28 -> 1 | F28: =N28+U28+AB28 -> 2 | G28: =SUM(H28:K28) -> 45 | H28: =15*SUM(O28,V28,AC28) -> 15 | I28: =15*SUM(P28,W28,AD28) -> 15 | J28: =15*SUM(Q28,X28,AE28) -> 15 | K28: =15*SUM(R28,Y28,AF28) -> 0 | L28: 3 | M28: 1 | N28: 2 | O28: 1 | P28: 1 | Q28: 1
A29: 11 | B29: Paliwa lotnicze i rakietowe | C29: IR | D29: =L29+S29+Z29 -> 2 | E29: =M29+T29+AA29 -> 0 | F29: =N29+U29+AB29 -> 2 | G29: =SUM(H29:K29) -> 45 | H29: =15*SUM(O29,V29,AC29) -> 30 | I29: =15*SUM(P29,W29,AD29) -> 0 | J29: =15*SUM(Q29,X29,AE29) -> 15 | K29: =15*SUM(R29,Y29,AF29) -> 0 | L29: 2 | N29: 2 | O29: 2 | Q29: 1
B30: Razem w grupie B | C30: =SUM(C19:C25) -> 0 | D30: =SUM(D19:D29) -> 22 | E30: =SUM(E19:E29) -> 10 | F30: =SUM(F19:F29) -> 12 | G30: =SUM(G19:G29) -> 375 | H30: =SUM(H19:H29) -> 225 | I30: =SUM(I19:I29) -> 30 | J30: =SUM(J19:J29) -> 90 | K30: =SUM(K19:K29) -> 30 | ... AF30: =SUM(AF19:AF29) -> 0
B31: Liczba godzin tygodniowo | O31: =SUM(O30:R30) -> 12 | V31: =SUM(V30:Y30) -> 9 | AC31: =SUM(AC30:AF30) -> 4
B32: Liczba godz. w semestrze | O32: =15*SUM(O31:R31) -> 180 | V32: =15*SUM(V31:Y31) -> 135 | AC32: =15*SUM(AC31:AF31) -> 60

Sheet Specjalność IL 
A1: POLITECHNIKA POZNAŃSKA | K1: Kierunek | O1: LOTNICTWO I KOSMONAUTYKA
A2: ='Og-mgr'!A2 -> WYDZIAŁ INŻYNIERII TRANSPORTU
B5: Inżynieria lotnicza
A6: Plan studiów dziennych uzupełniających II stopnia magisterskich oraz jednolitych magisterskich | B6: studia stacjonarne II stopnia magisterskie
C8: Realizacja | D8: ECTS | E8: L. egzaminów | F8: L. zaliczeń | G8: Ogólne liczby godzin | M8: semestr | S8: semestr | AA8: semestr
G9: Razem | H9: w tym | P9: I | W9: II | AD9: III
A10: L.p. | B10: Nazwa przedmiotu | H10: wykł. | I10: ćw. | J10: lab. | K10: proj.
H11: W | I11: C | J11: L | K11: P | L11: ECTS | M11: E | N11: Z | O11: W | P11: C | Q11: L | R11: P | S11: ECTS | T11: E | U11: Z | V11: W | W11: C | X11: L | Y11: P | Z11: ECTS | AA11: E | AB11: Z | AC11: W | AD11: C | AE11: L | AF11: P
A12: D. Blok przedmiotów
A13: 1 | B13: Systemy pokładowe w lotnictwie | C13: KTC | D13: =L13+S13+Z13 -> 2 | E13: =M13+T13+AA13 -> 0 | F13: =N13+U13+AB13 -> 2 | G13: =SUM(H13:K13) -> 45 | H13: =15*SUM(O13,V13,AC13) -> 15 | I13: =15*SUM(P13,W13,AD13) -> 0 | J13: =15*SUM(Q13,X13,AE13) -> 0 | K13: =15*SUM(R13,Y13,AF13) -> 30 | S13: 2 | U13: 2 | V13: 1 | Y13: 2
A14: 2 | B14: Termomechanika płynów rzeczywistych i reagujących | C14: KTC | D14: =L14+S14+Z14 -> 3 | E14: =M14+T14+AA14 -> 1 | F14: =N14+U14+AB14 -> 1 | G14: =SUM(H14:K14) -> 45 | H14: =15*SUM(O14,V14,AC14) -> 15 | I14: =15*SUM(P14,W14,AD14) -> 30 | J14: =15*SUM(Q14,X14,AE14) -> 0 | K14: =15*SUM(R14,Y14,AF14) -> 0 | L14: 3 | M14: 1 | N14: 1 | O14: 1 | P14: 2
A15: 3 | B15: Sterowanie układów napędowych | C15: KTC | D15: =L15+S15+Z15 -> 2 | E15: =M15+T15+AA15 -> 0 | F15: =N15+U15+AB15 -> 2 | G15: =SUM(H15:K15) -> 30 | H15: =15*SUM(O15,V15,AC15) -> 15 | I15: =15*SUM(P15,W15,AD15) -> 0 | J15: =15*SUM(Q15,X15,AE15) -> 0 | K15: =15*SUM(R15,Y15,AF15) -> 15 | L15: 0 | N15: 0 | O15: 0 | S15: 2 | U15: 2 | V15: 1 | Y15: 1
A16: 4 | B16: Aerodynamika i mechanika lotu wysokich prędkości | C16: KTC | D16: =L16+S16+Z16 -> 2 | E16: =M16+T16+AA16 -> 1 | F16: =N16+U16+AB16 -> 1 | G16: =SUM(H16:K16) -> 30 | H16: =15*SUM(O16,V16,AC16) -> 15 | I16: =15*SUM(P16,W16,AD16) -> 15 | J16: =15*SUM(Q16,X16,AE16) -> 0 | K16: =15*SUM(R16,Y16,AF16) -> 0 | L16: 2 | M16: 1 | N16: 1 | O16: 1 | P16: 1
A17: 5 | B17: Systemy podtrzymywania życia | C17: KTC | D17: =L17+S17+Z17 -> 1 | E17: =M17+T17+AA17 -> 0 | F17: =N17+U17+AB17 -> 2 | G17: =SUM(H17:K17) -> 30 | H17: =15*SUM(O17,V17,AC17) -> 15 | I17: =15*SUM(P17,W17,AD17) -> 0 | J17: =15*SUM(Q17,X17,AE17) -> 0 | K17: =15*SUM(R17,Y17,AF17) -> 15 | S17: 1 | U17: 2 | V17: 1 | Y17: 1
A18: 6 | B18: Systemy łączności i rejestracji | C18: KTC | D18: =L18+S18+Z18 -> 1 | E18: =M18+T18+AA18 -> 0 | F18: =N18+U18+AB18 -> 2 | G18: =SUM(H18:K18) -> 30 | H18: =15*SUM(O18,V18,AC18) -> 15 | I18: =15*SUM(P18,W18,AD18) -> 0 | J18: =15*SUM(Q18,X18,AE18) -> 15 | K18: =15*SUM(R18,Y18,AF18) -> 0 | Z18: 1 | AB18: 2 | AC18: 1 | AE18: 1
A19: 7 | B19: Wytrzymałość konstrukcji lotniczych | C19: KTC | D19: =L19+S19+Z19 -> 4 | E19: =M19+T19+AA19 -> 0 | F19: =N19+U19+AB19 -> 2 | G19: =SUM(H19:K19) -> 45 | H19: =15*SUM(O19,V19,AC19) -> 30 | I19: =15*SUM(P19,W19,AD19) -> 0 | J19: =15*SUM(Q19,X19,AE19) -> 0 | K19: =15*SUM(R19,Y19,AF19) -> 15 | L19: 4 | N19: 2 | O19: 2 | R19: 1
A20: 8 | B20: Materiały pędne i smary | C20: IR | D20: =L20+S20+Z20 -> 1 | E20: =M20+T20+AA20 -> 0 | F20: =N20+U20+AB20 -> 1 | G20: =SUM(H20:K20) -> 15 | H20: =15*SUM(O20,V20,AC20) -> 15 | I20: =15*SUM(P20,W20,AD20) -> 0 | J20: =15*SUM(Q20,X20,AE20) -> 0 | K20: =15*SUM(R20,Y20,AF20) -> 0 | Z20: 1 | AB20: 1 | AC20: 1
A21: 9 | B21: Certyfikacja wyrobów lotniczych | C21: KTC | D21: =L21+S21+Z21 -> 1 | E21: =M21+T21+AA21 -> 0 | F21: =N21+U21+AB21 -> 1 | G21: =SUM(H21:K21) -> 15 | H21: =15*SUM(O21,V21,AC21) -> 15 | I21: =15*SUM(P21,W21,AD21) -> 0 | J21: =15*SUM(Q21,X21,AE21) -> 0 | K21: =15*SUM(R21,Y21,AF21) -> 0 | Z21: 1 | AB21: 1 | AC21: 1
A22: 10 | B22: Metody numeryczne w mechanice płynów | C22: KTC | D22: =L22+S22+Z22 -> 2 | E22: =M22+T22+AA22 -> 0 | F22: =N22+U22+AB22 -> 2 | G22: =SUM(H22:K22) -> 30 | H22: =15*SUM(O22,V22,AC22) -> 15 | I22: =15*SUM(P22,W22,AD22) -> 0 | J22: =15*SUM(Q22,X22,AE22) -> 15 | K22: =15*SUM(R22,Y22,AF22) -> 0 | L22: 2 | N22: 2 | O22: 1 | P22: 0 | Q22: 1 | V22: 0 | X22: 0
A23: 11 | B23: Programowanie w analizie danych | C23: KTC | D23: =L23+S23+Z23 -> 2 | E23: =M23+T23+AA23 -> 0 | F23: =N23+U23+AB23 -> 2 | G23: =SUM(H23:K23) -> 45 | H23: =15*SUM(O23,V23,AC23) -> 15 | I23: =15*SUM(P23,W23,AD23) -> 0 | J23: =15*SUM(Q23,X23,AE23) -> 30 | K23: =15*SUM(R23,Y23,AF23) -> 0 | S23: 2 | U23: 2 | V23: 1 | X23: 2
A24: 12 | B24: Praca przejściowa *) | C24: WIT | D24: =L24+S24+Z24 -> 5 | E24: =M24+T24+AA24 -> 0 | F24: =N24+U24+AB24 -> 1 | G24: =SUM(H24:K24) -> 15 | H24: =15*SUM(O24,V24,AC24) -> 0 | I24: =15*SUM(P24,W24,AD24) -> 0 | J24: =15*SUM(Q24,X24,AE24) -> 0 | K24: =15*SUM(R24,Y24,AF24) -> 15 | S24: 5 | U24: 1 | Y24: 1
A25: 13 | B25: Sem. dyplomowe - mgr | C25: WIT | D25: =L25+S25+Z25 -> 20 | E25: =M25+T25+AA25 -> 0 | F25: =N25+U25+AB25 -> 1 | G25: =SUM(H25:K25) -> 15 | H25: =15*SUM(O25,V25,AC25) -> 0 | I25: =15*SUM(P25,W25,AD25) -> 0 | J25: =15*SUM(Q25,X25,AE25) -> 0 | K25: =15*SUM(R25,Y25,AF25) -> 15 | Z25: 20 | AB25: 1 | AF25: 1
A26: 14 | B26: Język obcy (specjalistyczny) | C26: SJO | D26: =L26+S26+Z26 -> 1 | E26: =M26+T26+AA26 -> 0 | F26: =N26+U26+AB26 -> 1 | G26: =SUM(H26:K26) -> 15 | H26: =15*SUM(O26,V26,AC26) -> 0 | I26: =15*SUM(P26,W26,AD26) -> 15 | J26: =15*SUM(Q26,X26,AE26) -> 0 | K26: =15*SUM(R26,Y26,AF26) -> 0 | S26: 1 | U26: 1 | W26: 1
B27: Razem w bloku D | C27: =SUM(C13:C26) -> 0 | D27: =SUM(D13:D26) -> 47 | E27: =SUM(E13:E26) -> 2 | F27: =SUM(F13:F26) -> 21 | G27: =SUM(G13:G26) -> 405 | H27: =SUM(H13:H26) -> 180 | I27: =SUM(I13:I26) -> 60 | J27: =SUM(J13:J26) -> 60 | ... AF27: =SUM(AF13:AF26) -> 1
B28: Liczba godzin tygodniowo | O28: =SUM(O27:R27) -> 10 | V28: =SUM(V27:Y27) -> 12 | AC28: =SUM(AC27:AF27) -> 5
B29: Liczba godz. w semestrze | O29: =15*SUM(O28:R28) -> 150 | V29: =15*SUM(V28:Y28) -> 180 | AC29: =15*SUM(AC28:AF28) -> 75

Sheet Specjalność IK
A1: POLITECHNIKA POZNAŃSKA | K1: Kierunek | O1: LOTNICTWO I KOSMONAUTYKA
A2: ='Og-mgr'!A2 -> WYDZIAŁ INŻYNIERII TRANSPORTU
B5: Inżynieria kosmiczna
A6: Plan studiów dziennych uzupełniających II stopnia magisterskich oraz jednolitych magisterskich | B6: studia stacjonarne II stopnia magisterskie
C8: Realizacja | D8: ECTS | E8: L. egzaminów | F8: L. zaliczeń | G8: Ogólne liczby godzin | M8: semestr | S8: semestr | AA8: semestr
G9: Razem | H9: w tym | P9: I | W9: II | AD9: III
A10: L.p. | B10: Nazwa przedmiotu | H10: wykł. | I10: ćw. | J10: lab. | K10: proj.
H11: W | I11: C | J11: L | K11: P | L11: ECTS | M11: E | N11: Z | O11: W | P11: C | Q11: L | R11: P | S11: ECTS | T11: E | U11: Z | V11: W | W11: C | X11: L | Y11: P | Z11: ECTS | AA11: E | AB11: Z | AC11: W | AD11: C | AE11: L | AF11: P
A12: D. Blok przedmiotów
A13: 1 | B13: Przesyłanie i analiza obrazów | C13: UAM | D13: =L13+S13+Z13 -> 2 | E13: =M13+T13+AA13 -> 0 | F13: =N13+U13+AB13 -> 2 | G13: =SUM(H13:K13) -> 30 | H13: =15*SUM(O13,V13,AC13) -> 15 | I13: =15*SUM(P13,W13,AD13) -> 0 | J13: =15*SUM(Q13,X13,AE13) -> 15 | K13: =15*SUM(R13,Y13,AF13) -> 0 | L13: 2 | N13: 2 | O13: 1 | Q13: 1
A14: 2 | B14: Bazy danych | C14: KTC | D14: =L14+S14+Z14 -> 2 | E14: =M14+T14+AA14 -> 0 | F14: =N14+U14+AB14 -> 2 | G14: =SUM(H14:K14) -> 30 | H14: =15*SUM(O14,V14,AC14) -> 15 | I14: =15*SUM(P14,W14,AD14) -> 15 | J14: =15*SUM(Q14,X14,AE14) -> 0 | K14: =15*SUM(R14,Y14,AF14) -> 0 | L14: 2 | N14: 2 | O14: 1 | P14: 1
A15: 3 | B15: Środowisko kosmiczne i jego zagrożenia | C15: UAM | D15: =L15+S15+Z15 -> 1 | E15: =M15+T15+AA15 -> 0 | F15: =N15+U15+AB15 -> 1 | G15: =SUM(H15:K15) -> 15 | H15: =15*SUM(O15,V15,AC15) -> 15 | I15: =15*SUM(P15,W15,AD15) -> 0 | J15: =15*SUM(Q15,X15,AE15) -> 0 | K15: =15*SUM(R15,Y15,AF15) -> 0 | L15: 1 | N15: 1 | O15: 1
A16: 4 | B16: Dynamika satelitów i sond kosmicznych | C16: UAM | D16: =L16+S16+Z16 -> 5 | E16: =M16+T16+AA16 -> 0 | F16: =N16+U16+AB16 -> 3 | G16: =SUM(H16:K16) -> 60 | H16: =15*SUM(O16,V16,AC16) -> 30 | I16: =15*SUM(P16,W16,AD16) -> 0 | J16: =15*SUM(Q16,X16,AE16) -> 30 | K16: =15*SUM(R16,Y16,AF16) -> 0 | L16: 3 | N16: 2 | O16: 1 | Q16: 1 | S16: 2 | U16: 1 | V16: 1 | X16: 1
A17: 5 | B17: Cyfrowe systemy satelitarne w zastosowaniach telekomunikacyjnych | C17: WE | D17: =L17+S17+Z17 -> 2 | E17: =M17+T17+AA17 -> 0 | F17: =N17+U17+AB17 -> 2 | G17: =SUM(H17:K17) -> 30 | H17: =15*SUM(O17,V17,AC17) -> 15 | I17: =15*SUM(P17,W17,AD17) -> 0 | J17: =15*SUM(Q17,X17,AE17) -> 0 | K17: =15*SUM(R17,Y17,AF17) -> 15 | S17: 2 | U17: 2 | V17: 1 | Y17: 1
A18: 6 | B18: Systemy podtrzymywania życia | C18: KTC | D18: =L18+S18+Z18 -> 1 | E18: =M18+T18+AA18 -> 0 | F18: =N18+U18+AB18 -> 2 | G18: =SUM(H18:K18) -> 30 | H18: =15*SUM(O18,V18,AC18) -> 15 | I18: =15*SUM(P18,W18,AD18) -> 0 | J18: =15*SUM(Q18,X18,AE18) -> 0 | K18: =15*SUM(R18,Y18,AF18) -> 15 | S18: 1 | U18: 2 | V18: 1 | Y18: 1
A19: 7 | B19: Teledetekcja satelitarna | C19: IIL (WBiIŚ) | D19: =L19+S19+Z19 -> 1 | E19: =M19+T19+AA19 -> 0 | F19: =N19+U19+AB19 -> 2 | G19: =SUM(H19:K19) -> 30 | H19: =15*SUM(O19,V19,AC19) -> 15 | I19: =15*SUM(P19,W19,AD19) -> 0 | J19: =15*SUM(Q19,X19,AE19) -> 15 | K19: =15*SUM(R19,Y19,AF19) -> 0 | S19: 1 | U19: 2 | V19: 1 | X19: 1
A20: 8 | B20: Systemy nawigacji satelitarnej | C20: UAM | D20: =L20+S20+Z20 -> 1 | E20: =M20+T20+AA20 -> 0 | F20: =N20+U20+AB20 -> 1 | G20: =SUM(H20:K20) -> 30 | H20: =15*SUM(O20,V20,AC20) -> 30 | I20: =15*SUM(P20,W20,AD20) -> 0 | J20: =15*SUM(Q20,X20,AE20) -> 0 | K20: =15*SUM(R20,Y20,AF20) -> 0 | S20: 1 | U20: 1 | V20: 2
A21: 9 | B21: Robotyczne systemy obserwacyjne | C21: WI | D21: =L21+S21+Z21 -> 2 | E21: =M21+T21+AA21 -> 0 | F21: =N21+U21+AB21 -> 2 | G21: =SUM(H21:K21) -> 30 | H21: =15*SUM(O21,V21,AC21) -> 15 | I21: =15*SUM(P21,W21,AD21) -> 0 | J21: =15*SUM(Q21,X21,AE21) -> 15 | K21: =15*SUM(R21,Y21,AF21) -> 0 | Z21: 2 | AB21: 2 | AC21: 1 | AE21: 1
A22: 10 | B22: Planowanie misji kosmicznych | C22: UAM | D22: =L22+S22+Z22 -> 1 | E22: =M22+T22+AA22 -> 0 | F22: =N22+U22+AB22 -> 2 | G22: =SUM(H22:K22) -> 30 | H22: =15*SUM(O22,V22,AC22) -> 15 | I22: =15*SUM(P22,W22,AD22) -> 15 | J22: =15*SUM(Q22,X22,AE22) -> 0 | K22: =15*SUM(R22,Y22,AF22) -> 0 | Z22: 1 | AB22: 2 | AC22: 1 | AD22: 1
A23: 11 | B23: Prowadzenie krajowych i zagranicznych projektów | C23: UAM | D23: =L23+S23+Z23 -> 1 | E23: =M23+T23+AA23 -> 0 | F23: =N23+U23+AB23 -> 1 | G23: =SUM(H23:K23) -> 15 | H23: =15*SUM(O23,V23,AC23) -> 15 | I23: =15*SUM(P23,W23,AD23) -> 0 | J23: =15*SUM(Q23,X23,AE23) -> 0 | K23: =15*SUM(R23,Y23,AF23) -> 0 | L23: 1 | N23: 1 | O23: 1
A24: 12 | B24: Metody analizy przeplywow rzeczywistych i reagujacych | C24: KTC | D24: =L24+S24+Z24 -> 2 | E24: =M24+T24+AA24 -> 0 | F24: =N24+U24+AB24 -> 2 | G24: =SUM(H24:K24) -> 30 | H24: =15*SUM(O24,V24,AC24) -> 15 | I24: =15*SUM(P24,W24,AD24) -> 15 | J24: =15*SUM(Q24,X24,AE24) -> 0 | K24: =15*SUM(R24,Y24,AF24) -> 0 | L24: 2 | N24: 2 | O24: 1 | P24: 1
A25: 13 | B25: Język obcy (specjalistyczny) | C25: SJO | D25: =L25+S25+Z25 -> 1 | E25: =M25+T25+AA25 -> 0 | F25: =N25+U25+AB25 -> 1 | G25: =SUM(H25:K25) -> 15 | H25: =15*SUM(O25,V25,AC25) -> 0 | I25: =15*SUM(P25,W25,AD25) -> 15 | J25: =15*SUM(Q25,X25,AE25) -> 0 | K25: =15*SUM(R25,Y25,AF25) -> 0 | S25: 1 | U25: 1 | W25: 1
A26: 14 | B26: Praca przejściowa *) | C26: KTC/UAM | D26: =L26+S26+Z26 -> 5 | E26: =M26+T26+AA26 -> 0 | F26: =N26+U26+AB26 -> 1 | G26: =SUM(H26:K26) -> 15 | H26: =15*SUM(O26,V26,AC26) -> 0 | I26: =15*SUM(P26,W26,AD26) -> 0 | J26: =15*SUM(Q26,X26,AE26) -> 0 | K26: =15*SUM(R26,Y26,AF26) -> 15 | S26: 5 | U26: 1 | Y26: 1
A27: 15 | B27: Sem. dyplomowe - mgr | C27: KTC/UAM | D27: =L27+S27+Z27 -> 20 | E27: =M27+T27+AA27 -> 0 | F27: =N27+U27+AB27 -> 1 | G27: =SUM(H27:K27) -> 15 | H27: =15*SUM(O27,V27,AC27) -> 0 | I27: =15*SUM(P27,W27,AD27) -> 0 | J27: =15*SUM(Q27,X27,AE27) -> 0 | K27: =15*SUM(R27,Y27,AF27) -> 15 | Z27: 20 | AB27: 1 | AF27: 1
B28: Razem w bloku D | C28: =SUM(C13:C27) -> 0 | D28: =SUM(D13:D27) -> 47 | E28: =SUM(E13:E27) -> 0 | F28: =SUM(F13:F27) -> 25 | G28: =SUM(G13:G27) -> 405 | H28: =SUM(H13:H27) -> 210 | I28: =SUM(I13:I27) -> 60 | J28: =SUM(J13:J27) -> 75 | ... AF28: =SUM(AF13:AF27) -> 1
B29: Liczba godzin tygodniowo | O29: =SUM(O28:R28) -> 10 | V29: =SUM(V28:Y28) -> 12 | AC29: =SUM(AC28:AF28) -> 5
B30: Liczba godz. w semestrze | O30: =15*SUM(O29:R29) -> 150 | V30: =15*SUM(V29:Y29) -> 180 | AC30: =15*SUM(AC29:AF29) -> 75

Sheet Specjalność LC
A1: POLITECHNIKA POZNAŃSKA | K1: Kierunek | O1: LOTNICTWO I KOSMONAUTYKA
A2: ='Og-mgr'!A2 -> WYDZIAŁ INŻYNIERII TRANSPORTU
B5: Lotnictwo cywilne
A6: Plan studiów dziennych uzupełniających II stopnia magisterskich oraz jednolitych magisterskich | B6: studia stacjonarne II stopnia magisterskie
C8: Realizacja | D8: ECTS | E8: L. egzaminów | F8: L. zaliczeń | G8: Ogólne liczby godzin | M8: semestr | S8: semestr | AA8: semestr
G9: Razem | H9: w tym | P9: I | W9: II | AD9: III
A10: L.p. | B10: Nazwa przedmiotu | H10: wykł. | I10: ćw. | J10: lab. | K10: proj.
H11: W | I11: C | J11: L | K11: P | L11: ECTS | M11: E | N11: Z | O11: W | P11: C | Q11: L | R11: P | S11: ECTS | T11: E | U11: Z | V11: W | W11: C | X11: L | Y11: P | Z11: ECTS | AA11: E | AB11: Z | AC11: W | AD11: C | AE11: L | AF11: P
A12: D. Blok przedmiotów
A13: 1 | B13: Zasady kształtowania siatek połączeń lotniczych | C13: Z | D13: =L13+S13+Z13 -> 2 | E13: =M13+T13+AA13 -> 1 | F13: =N13+U13+AB13 -> 2 | G13: =SUM(H13:K13) -> 45 | H13: =15*SUM(O13,V13,AC13) -> 15 | I13: =15*SUM(P13,W13,AD13) -> 15 | J13: =15*SUM(Q13,X13,AE13) -> 0 | K13: =15*SUM(R13,Y13,AF13) -> 15 | S13: 2 | T13: 1 | U13: 2 | V13: 1 | W13: 1 | Y13: 1
A14: 2 | B14: Efektywność i rozwój portów lotniczych | C14: IR | D14: =L14+S14+Z14 -> 2 | E14: =M14+T14+AA14 -> 0 | F14: =N14+U14+AB14 -> 2 | G14: =SUM(H14:K14) -> 30 | H14: =15*SUM(O14,V14,AC14) -> 15 | I14: =15*SUM(P14,W14,AD14) -> 0 | J14: =15*SUM(Q14,X14,AE14) -> 0 | K14: =15*SUM(R14,Y14,AF14) -> 15 | Z14: 2 | AB14: 2 | AC14: 1 | AF14: 1
A15: 3 | B15: Przewozy CARGO | C15: Z | D15: =L15+S15+Z15 -> 2 | E15: =M15+T15+AA15 -> 0 | F15: =N15+U15+AB15 -> 1 | G15: =SUM(H15:K15) -> 30 | H15: =15*SUM(O15,V15,AC15) -> 15 | I15: =15*SUM(P15,W15,AD15) -> 15 | J15: =15*SUM(Q15,X15,AE15) -> 0 | K15: =15*SUM(R15,Y15,AF15) -> 0 | L15: 2 | N15: 1 | O15: 1 | P15: 1
A16: 4 | B16: Planowanie przewozów CAT | C16: Z | D16: =L16+S16+Z16 -> 3 | E16: =M16+T16+AA16 -> 1 | F16: =N16+U16+AB16 -> 1 | G16: =SUM(H16:K16) -> 45 | H16: =15*SUM(O16,V16,AC16) -> 30 | I16: =15*SUM(P16,W16,AD16) -> 15 | J16: =15*SUM(Q16,X16,AE16) -> 0 | K16: =15*SUM(R16,Y16,AF16) -> 0 | L16: 3 | M16: 1 | N16: 1 | O16: 2 | P16: 1
A17: 5 | B17: Krajowy Program Bezpieczeństwa w Lotnictwie Cywilnym | C17: ISS | D17: =L17+S17+Z17 -> 2 | E17: =M17+T17+AA17 -> 1 | F17: =N17+U17+AB17 -> 1 | G17: =SUM(H17:K17) -> 45 | H17: =15*SUM(O17,V17,AC17) -> 30 | I17: =15*SUM(P17,W17,AD17) -> 15 | J17: =15*SUM(Q17,X17,AE17) -> 0 | K17: =15*SUM(R17,Y17,AF17) -> 0 | S17: 2 | T17: 1 | U17: 1 | V17: 2 | W17: 1
A18: 6 | B18: Lotnicza działalność gospodarcza - koncesje i zezwolenia | C18: ISS | D18: =L18+S18+Z18 -> 2 | E18: =M18+T18+AA18 -> 0 | F18: =N18+U18+AB18 -> 2 | G18: =SUM(H18:K18) -> 30 | H18: =15*SUM(O18,V18,AC18) -> 15 | I18: =15*SUM(P18,W18,AD18) -> 0 | J18: =15*SUM(Q18,X18,AE18) -> 0 | K18: =15*SUM(R18,Y18,AF18) -> 15 | L18: 2 | N18: 2 | O18: 1 | R18: 1
A19: 7 | B19: Zarządzenie ruchem lotniczym | C19: ISS | D19: =L19+S19+Z19 -> 2 | E19: =M19+T19+AA19 -> 0 | F19: =N19+U19+AB19 -> 2 | G19: =SUM(H19:K19) -> 45 | H19: =15*SUM(O19,V19,AC19) -> 30 | I19: =15*SUM(P19,W19,AD19) -> 15 | J19: =15*SUM(Q19,X19,AE19) -> 0 | K19: =15*SUM(R19,Y19,AF19) -> 0 | S19: 2 | U19: 2 | V19: 2 | W19: 1
A20: 8 | B20: Radary, łączność i dozorowanie | C20: ISS | D20: =L20+S20+Z20 -> 2 | E20: =M20+T20+AA20 -> 0 | F20: =N20+U20+AB20 -> 2 | G20: =SUM(H20:K20) -> 30 | H20: =15*SUM(O20,V20,AC20) -> 15 | I20: =15*SUM(P20,W20,AD20) -> 0 | J20: =15*SUM(Q20,X20,AE20) -> 15 | K20: =15*SUM(R20,Y20,AF20) -> 0 | L20: 2 | N20: 2 | O20: 1 | Q20: 1
A21: 9 | B21: Charakterystyka współczesnego rynku lotniczego | C21: ISS | D21: =L21+S21+Z21 -> 1 | E21: =M21+T21+AA21 -> 0 | F21: =N21+U21+AB21 -> 1 | G21: =SUM(H21:K21) -> 15 | H21: =15*SUM(O21,V21,AC21) -> 15 | I21: =15*SUM(P21,W21,AD21) -> 0 | J21: =15*SUM(Q21,X21,AE21) -> 0 | K21: =15*SUM(R21,Y21,AF21) -> 0 | S21: 1 | U21: 1 | V21: 1
A22: 10 | B22: Systemy użytkowania BSP | C22: ISS | D22: =L22+S22+Z22 -> 2 | E22: =M22+T22+AA22 -> 0 | F22: =N22+U22+AB22 -> 1 | G22: =SUM(H22:K22) -> 15 | H22: =15*SUM(O22,V22,AC22) -> 15 | I22: =15*SUM(P22,W22,AD22) -> 0 | J22: =15*SUM(Q22,X22,AE22) -> 0 | K22: =15*SUM(R22,Y22,AF22) -> 0 | L22: 2 | N22: 1 | O22: 1
A23: 11 | B23: Zarządzenie personelem lotniczym | C23: ISS | D23: =L23+S23+Z23 -> 1 | E23: =M23+T23+AA23 -> 0 | F23: =N23+U23+AB23 -> 2 | G23: =SUM(H23:K23) -> 30 | H23: =15*SUM(O23,V23,AC23) -> 15 | I23: =15*SUM(P23,W23,AD23) -> 15 | J23: =15*SUM(Q23,X23,AE23) -> 0 | K23: =15*SUM(R23,Y23,AF23) -> 0 | Z23: 1 | AB23: 2 | AC23: 1 | AD23: 1
A24: 12 | B24: Praca przejściowa *) | C24: ISS | D24: =L24+S24+Z24 -> 5 | E24: =M24+T24+AA24 -> 0 | F24: =N24+U24+AB24 -> 1 | G24: =SUM(H24:K24) -> 15 | H24: =15*SUM(O24,V24,AC24) -> 0 | I24: =15*SUM(P24,W24,AD24) -> 0 | J24: =15*SUM(Q24,X24,AE24) -> 0 | K24: =15*SUM(R24,Y24,AF24) -> 15 | S24: 5 | U24: 1 | Y24: 1
A26: 13 | B26: Sem. dyplomowe - mgr | C26: ISS | D26: =L26+S26+Z26 -> 20 | E26: =M26+T26+AA26 -> 0 | F26: =N26+U26+AB26 -> 1 | G26: =SUM(H26:K26) -> 15 | H26: =15*SUM(O26,V26,AC26) -> 0 | I26: =15*SUM(P26,W26,AD26) -> 0 | J26: =15*SUM(Q26,X26,AE26) -> 0 | K26: =15*SUM(R26,Y26,AF26) -> 15 | Z26: 20 | AB26: 1 | AF26: 1
A27: 14 | B27: Język obcy (specjalistyczny) | C27: SJO | D27: =L27+S27+Z27 -> 1 | E27: =M27+T27+AA27 -> 0 | F27: =N27+U27+AB27 -> 1 | G27: =SUM(H27:K27) -> 15 | H27: =15*SUM(O27,V27,AC27) -> 0 | I27: =15*SUM(P27,W27,AD27) -> 15 | J27: =15*SUM(Q27,X27,AE27) -> 0 | K27: =15*SUM(R27,Y27,AF27) -> 0 | S27: 1 | U27: 1 | W27: 1
B28: Razem w bloku D | C28: =SUM(C13:C25) -> 0 | D28: =SUM(D13:D27) -> 47 | E28: =SUM(E13:E27) -> 3 | F28: =SUM(F13:F27) -> 20 | G28: =SUM(G13:G27) -> 405 | H28: =SUM(H13:H27) -> 210 | I28: =SUM(I13:I27) -> 105 | J28: =SUM(J13:J27) -> 15 | K28: =SUM(K13:K27) -> 75 | ... AF28: =SUM(AF13:AF27) -> 2
B29: Liczba godzin tygodniowo | O29: =SUM(O28:R28) -> 10 | V29: =SUM(V28:Y28) -> 12 | AC29: =SUM(AC28:AF28) -> 5
B30: Liczba godz. w semestrze | O30: =15*SUM(O29:R29) -> 150 | V30: =15*SUM(V29:Y29) -> 180 | AC30: =15*SUM(AC29:AF29) -> 75

Sheet Suma-Mgr
A1: POLITECHNIKA POZNAŃSKA | J1: Kierunek | O1: LOTNICTWO I KOSMONAUTYKA
A2: ='Og-mgr'!A2 -> WYDZIAŁ INŻYNIERII TRANSPORTU
C6: Plan studiów stacjonarnych II stopnia magisterskich
C8: ECTS | D8: L. egzaminów | E8: L. zaliczeń | F8: Ogólne liczby godzin | L8: semestr | S8: semestr | Z8: semestr
F9: Razem | G9: w tym | O9: I | V9: II | AC9: III
A10: L.p. | B10: Nazwa przedmiotu | G10: wykł. | H10: ćw. | I10: lab. | J10: proj.
G11: W | H11: C | I11: L | J11: P | K11: ECTS | L11: E | M11: Z | N11: W | O11: C | P11: L | Q11: P | R11: ECTS | S11: E | T11: Z | U11: W | V11: C | W11: L | X11: P | Y11: ECTS | Z11: E | AA11: Z | AB11: W | AC11: C | AD11: L | AE11: P
A13: 1. | B13: Przedmioty kształcenia ogólnego (Og) | C13: =K13+R13+Y13 -> 13 | D13: =L13+S13+Z13 -> 0 | E13: =M13+T13+AA13 -> 7 | F13: =SUM(G13:J13) -> 150 | G13: =15*SUM(N13,U13,AB13) -> 15 | H13: =15*SUM(O13,V13,AC13) -> 105 | I13: =15*SUM(P13,W13,AD13) -> 0 | J13: =15*SUM(Q13,X13,AE13) -> 30 | K13: ='Og-mgr'!L29 -> 6 | L13: ='Og-mgr'!M29 -> 0 | M13: ='Og-mgr'!N29 -> 2 | N13: ='Og-mgr'!O29 -> 0 | O13: ='Og-mgr'!P29 -> 2 | P13: ='Og-mgr'!Q29 -> 0 | Q13: ='Og-mgr'!R29 -> 0 | R13: ='Og-mgr'!S29 -> 3 | ... AE13: ='Og-mgr'!AF29 -> 2
A14: 2. | B14: Przedmioty podstawowe (A) | C14: =K14+R14+Y14 -> 8 | D14: =L14+S14+Z14 -> 0 | E14: =M14+T14+AA14 -> 2 | F14: =SUM(G14:J14) -> 150 | G14: =15*SUM(N14,U14,AB14) -> 60 | H14: =15*SUM(O14,V14,AC14) -> 30 | I14: =15*SUM(P14,W14,AD14) -> 60 | J14: =15*SUM(Q14,X14,AE14) -> 0 | K14: =' A-mgr'!L23 -> 2 | L14: =' A-mgr'!M23 -> 0 | M14: =' A-mgr'!N23 -> 0 | N14: =' A-mgr'!O23 -> 1 | O14: =' A-mgr'!P23 -> 1 | P14: =' A-mgr'!Q23 -> 0 | Q14: =' A-mgr'!R23 -> 0 | R14: =' A-mgr'!S23 -> 6 | ... AE14: =' A-mgr'!AF23 -> 0
A15: 3. | B15: Przedmioty kierunkowe (B) | C15: =K15+R15+Y15 -> 22 | D15: =L15+S15+Z15 -> 10 | E15: =M15+T15+AA15 -> 12 | F15: =SUM(G15:J15) -> 375 | G15: =15*SUM(N15,U15,AB15) -> 225 | H15: =15*SUM(O15,V15,AC15) -> 30 | I15: =15*SUM(P15,W15,AD15) -> 75 | J15: =15*SUM(Q15,X15,AE15) -> 45 | K15: ='B-mgr (2)'!L30 -> 11 | L15: ='B-mgr (2)'!M30 -> 4 | M15: ='B-mgr (2)'!N30 -> 6 | N15: ='B-mgr (2)'!O30 -> 8 | O15: ='B-mgr (2)'!P30 -> 1 | P15: ='B-mgr (2)'!Q30 -> 2 | Q15: ='B-mgr (2)'!R30 -> 1 | R15: ='B-mgr (2)'!S30 -> 8 | ... AE15: ='B-mgr (2)'!AF30 -> 0
C19: Inżynieria lotnicza
A20: 4 | B20: Blok przedmiotów (D)\ | C20: =K20+R20+Y20 -> 47 | D20: =L20+S20+Z20 -> 2 | E20: =M20+T20+AA20 -> 19 | F20: =SUM(G20:J20) -> 405 | G20: =15*SUM(N20,U20,AB20) -> 180 | H20: =15*SUM(O20,V20,AC20) -> 60 | I20: =15*SUM(P20,W20,AD20) -> 60 | J20: =15*SUM(Q20,X20,AE20) -> 105 | K20: ='Specjalność IL '!L27 -> 11 | L20: ='Specjalność IL '!M27 -> 2 | M20: ='Specjalność IL '!N27 -> 6 | N20: ='Specjalność IL '!O27 -> 5 | O20: ='Specjalność IL '!P27 -> 3 | P20: ='Specjalność IL '!Q27 -> 1 | Q20: ='Specjalność IL '!R27 -> 1 | R20: ='Specjalność IL '!S27 -> 13 | ... AE20: ='Specjalność IL '!AF27 -> 1
B21: Razem | C21: =SUM(C13:C15)+C20 -> 90 | D21: =SUM(D13:D15)+D20 -> 12 | E21: =SUM(E13:E15)+E20 -> 40 | F21: =SUM(F13:F15)+F20 -> 1080 | G21: =SUM(G13:G15)+G20 -> 480 | H21: =SUM(H13:H15)+H20 -> 225 | I21: =SUM(I13:I15)+I20 -> 195 | J21: =SUM(J13:J15)+J20 -> 180 | ... AE21: =SUM(AE13:AE15)+AE20 -> 3
B22: Liczba godzin tygodniowo | N22: =SUM(N21:Q21) -> 26 | U22: =SUM(U21:X21) -> 32 | AB22: =SUM(AB21:AE21) -> 14
B23: Liczba godz. w semestrze | N23: =15*SUM(N22:Q22) -> 390 | U23: =15*SUM(U22:X22) -> 480 | AB23: =15*SUM(AB22:AE22) -> 210
C26: Inżynieria kosmiczna
A27: 4 | B27: Blok przedmiotów (D) | C27: =K27+R27+Y27 -> 47 | D27: =L27+S27+Z27 -> 0 | E27: =M27+T27+AA27 -> 18 | F27: =SUM(G27:J27) -> 405 | G27: =15*SUM(N27,U27,AB27) -> 210 | H27: =15*SUM(O27,V27,AC27) -> 60 | I27: =15*SUM(P27,W27,AD27) -> 75 | J27: =15*SUM(Q27,X27,AE27) -> 60 | K27: ='Specjalność IK'!L28 -> 11 | L27: ='Specjalność IK'!M28 -> 0 | M27: ='Specjalność IK'!N28 -> 10 | N27: ='Specjalność IK'!O28 -> 6 | O27: ='Specjalność IK'!P28 -> 2 | P27: ='Specjalność IK'!Q28 -> 2 | Q27: ='Specjalność IK'!R28 -> 0 | R27: ='Specjalność IK'!S28 -> 13 | ... AE27: ='Specjalność IK'!AF28 -> 1
B28: Razem | C28: =SUM(C13:C15)+C27 -> 90 | D28: =SUM(D13:D15)+D27 -> 10 | E28: =SUM(E13:E15)+E27 -> 39 | F28: =SUM(F13:F15)+F27 -> 1080 | G28: =SUM(G13:G15)+G27 -> 510 | H28: =SUM(H13:H15)+H27 -> 225 | I28: =SUM(I13:I15)+I27 -> 210 | J28: =SUM(J13:J15)+J27 -> 135 | ... AE28: =SUM(AE13:AE15)+AE27 -> 3
B29: Liczba godzin tygodniowo | N29: =SUM(N28:Q28) -> 26 | U29: =SUM(U28:X28) -> 32 | AB29: =SUM(AB28:AE28) -> 14
B30: Liczba godz. w semestrze | N30: =15*SUM(N29:Q29) -> 390 | U30: =15*SUM(U29:X29) -> 480 | AB30: =15*SUM(AB29:AE29) -> 210
C32: Lotnictwo cywilne
A33: 4 | B33: Blok przedmiotów (D) | C33: =K33+R33+Y33 -> 47 | D33: =L33+S33+Z33 -> 3 | E33: =M33+T33+AA33 -> 20 | F33: =SUM(G33:J33) -> 405 | G33: =15*SUM(N33,U33,AB33) -> 210 | H33: =15*SUM(O33,V33,AC33) -> 105 | I33: =15*SUM(P33,W33,AD33) -> 15 | J33: =15*SUM(Q33,X33,AE33) -> 75 | K33: ='Specjalność LC'!L28 -> 11 | L33: ='Specjalność LC'!M28 -> 1 | M33: ='Specjalność LC'!N28 -> 7 | N33: ='Specjalność LC'!O28 -> 6 | O33: ='Specjalność LC'!P28 -> 2 | P33: ='Specjalność LC'!Q28 -> 1 | Q33: ='Specjalność LC'!R28 -> 1 | R33: ='Specjalność LC'!S28 -> 13 | ... AE33: ='Specjalność LC'!AF28 -> 2
B34: Razem | C34: =SUM(C13:C15)+C33 -> 90 | D34: =SUM(D13:D15)+D33 -> 13 | E34: =SUM(E13:E15)+E33 -> 41 | F34: =SUM(F13:F15)+F33 -> 1080 | G34: =SUM(G13:G15)+G33 -> 510 | H34: =SUM(H13:H15)+H33 -> 270 | I34: =SUM(I13:I15)+I33 -> 150 | J34: =SUM(J13:J15)+J33 -> 150 | ... AE34: =SUM(AE13:AE15)+AE33 -> 4
B35: Liczba godzin tygodniowo | N35: =SUM(N34:Q34) -> 26 | U35: =SUM(U34:X34) -> 32 | AB35: =SUM(AB34:AE34) -> 14
B36: Liczba godz. w semestrze | N36: =15*SUM(N35:Q35) -> 390 | U36: =15*SUM(U35:X35) -> 480 | AB36: =15*SUM(AB35:AE35) -> 210
C38: Inżynieria Wirtualna w Aeronatyce
A39: 4 | B39: Blok przedmiotów (D) | C39: =K39+R39+Y39 -> #REF! | D39: =L39+S39+Z39 -> #REF! | E39: =M39+T39+AA39 -> #REF! | F39: =SUM(G39:J39) -> #REF! | G39: =15*SUM(N39,U39,AB39) -> #REF! | H39: =15*SUM(O39,V39,AC39) -> #REF! | I39: =15*SUM(P39,W39,AD39) -> #REF! | J39: =15*SUM(Q39,X39,AE39) -> #REF! | K39: =#REF! -> #REF! | L39: =#REF! -> #REF! | M39: =#REF! -> #REF! | N39: =#REF! -> #REF! | O39: =#REF! -> #REF! | P39: =#REF! -> #REF! | Q39: =#REF! -> #REF! | R39: =#REF! -> #REF! | ... AE39: =#REF! -> #REF!
B40: Razem | C40: =SUM(C13:C15)+C39 -> #REF! | D40: =SUM(D13:D15)+D39 -> #REF! | E40: =SUM(E13:E15)+E39 -> #REF! | F40: =SUM(F13:F15)+F39 -> #REF! | G40: =SUM(G13:G15)+G39 -> #REF! | H40: =SUM(H13:H15)+H39 -> #REF! | I40: =SUM(I13:I15)+I39 -> #REF! | J40: =SUM(J13:J15)+J39 -> #REF! | ... AE40: =SUM(AE13:AE15)+AE39 -> #REF!
B41: Liczba godzin tygodniowo | N41: =SUM(N40:Q40) -> #REF! | U41: =SUM(U40:X40) -> #REF! | AB41: =SUM(AB40:AE40) -> #REF!
B42: Liczba godz. w semestrze | N42: =15*SUM(N41:Q41) -> #REF! | U42: =15*SUM(U41:X41) -> #REF! | AB42: =15*SUM(AB41:AE41) -> #REF!
A45: 4 | B45: Blok przedmiotów specjalnościowych (D) | C45: =K45+R45+Y45 -> #REF! | D45: =L45+S45+Z45 -> #REF! | E45: =M45+T45+AA45 -> #REF! | F45: =SUM(G45:J45) -> #REF! | G45: =15*SUM(N45,U45,AB45) -> #REF! | H45: =15*SUM(O45,V45,AC45) -> #REF! | I45: =15*SUM(P45,W45,AD45) -> #REF! | J45: =15*SUM(Q45,X45,AE45) -> #REF! | K45: =#REF! -> #REF! | L45: =#REF! -> #REF! | M45: =#REF! -> #REF! | N45: =#REF! -> #REF! | O45: =#REF! -> #REF! | P45: =#REF! -> #REF! | Q45: =#REF! -> #REF! | R45: =#REF! -> #REF! | ... AE45: =#REF! -> #REF!
B46: Razem | C46: =SUM(C13:C15)+C45 -> #REF! | D46: =SUM(D13:D15)+D45 -> #REF! | E46: =SUM(E13:E15)+E45 -> #REF! | F46: =SUM(F13:F15)+F45 -> #REF! | G46: =SUM(G13:G15)+G45 -> #REF! | H46: =SUM(H13:H15)+H45 -> #REF! | I46: =SUM(I13:I15)+I45 -> #REF! | J46: =SUM(J13:J15)+J45 -> #REF! | ... AE46: =SUM(AE13:AE15)+AE45 -> #REF!
B47: Liczba godzin tygodniowo | N47: =SUM(N46:Q46) -> #REF! | U47: =SUM(U46:X46) -> #REF! | AB47: =SUM(AB46:AE46) -> #REF!
B48: Liczba godz. w semestrze | N48: =15*SUM(N47:Q47) -> #REF! | U48: =15*SUM(U47:X47) -> #REF! | AB48: =15*SUM(AB47:AE47) -> #REF!
A51: 4 | B51: Blok przedmiotów specjalnościowych (D) | C51: =K51+R51+Y51 -> #REF! | D51: =L51+S51+Z51 -> #REF! | E51: =M51+T51+AA51 -> #REF! | F51: =SUM(G51:J51) -> #REF! | G51: =15*SUM(N51,U51,AB51) -> #REF! | H51: =15*SUM(O51,V51,AC51) -> #REF! | I51: =15*SUM(P51,W51,AD51) -> #REF! | J51: =15*SUM(Q51,X51,AE51) -> #REF! | K51: =#REF! -> #REF! | L51: =#REF! -> #REF! | M51: =#REF! -> #REF! | N51: =#REF! -> #REF! | O51: =#REF! -> #REF! | P51: =#REF! -> #REF! | Q51: =#REF! -> #REF! | R51: =#REF! -> #REF! | ... AE51: =#REF! -> #REF!
B52: Razem | C52: =SUM(C13:C15)+C51 -> #REF! | D52: =SUM(D13:D15)+D51 -> #REF! | E52: =SUM(E13:E15)+E51 -> #REF! | F52: =SUM(F13:F15)+F51 -> #REF! | G52: =SUM(G13:G15)+G51 -> #REF! | H52: =SUM(H13:H15)+H51 -> #REF! | I52: =SUM(I13:I15)+I51 -> #REF! | J52: =SUM(J13:J15)+J51 -> #REF! | ... AE52: =SUM(AE13:AE15)+AE51 -> #REF!
B53: Liczba godzin tygodniowo | N53: =SUM(N52:Q52) -> #REF! | U53: =SUM(U52:X52) -> #REF! | AB53: =SUM(AB52:AE52) -> #REF!
B54: Liczba godz. w semestrze | N54: =15*SUM(N53:Q53) -> #REF! | U54: =15*SUM(U53:X53) -> #REF! | AB54: =15*SUM(AB53:AE53) -> #REF!
A58: 4 | B58: Blok przedmiotów specjalnościowych (D) | C58: =K58+R58+Y58 -> 47 | D58: =L58+S58+Z58 -> 0 | E58: =M58+T58+AA58 -> 18 | F58: =SUM(G58:J58) -> 405 | G58: =15*SUM(N58,U58,AB58) -> 210 | H58: =15*SUM(O58,V58,AC58) -> 60 | I58: =15*SUM(P58,W58,AD58) -> 75 | J58: =15*SUM(Q58,X58,AE58) -> 60 | K58: ='Specjalność IK'!L28 -> 11 | L58: ='Specjalność IK'!M28 -> 0 | M58: ='Specjalność IK'!N28 -> 10 | N58: ='Specjalność IK'!O28 -> 6 | O58: ='Specjalność IK'!P28 -> 2 | P58: ='Specjalność IK'!Q28 -> 2 | Q58: ='Specjalność IK'!R28 -> 0 | R58: ='Specjalność IK'!S28 -> 13 | ... AE58: ='Specjalność IK'!AF28 -> 1
B59: Razem | C59: =SUM(C13:C15)+C58 -> 90 | D59: =SUM(D13:D15)+D58 -> 10 | E59: =SUM(E13:E15)+E58 -> 39 | F59: =SUM(F13:F15)+F58 -> 1080 | G59: =SUM(G13:G15)+G58 -> 510 | H59: =SUM(H13:H15)+H58 -> 225 | I59: =SUM(I13:I15)+I58 -> 210 | J59: =SUM(J13:J15)+J58 -> 135 | ... AE59: =SUM(AE13:AE15)+AE58 -> 3
...
